BEGIN:VCALENDAR
VERSION:2.0
PRODID:-//IP.Board Calendar 4.2.3//EN
METHOD:PUBLISH
CALSCALE:GREGORIAN
X-WR-CALNAME:Wydarzenia sportowe
BEGIN:VTIMEZONE
TZID:Europe/London
TZURL:http://tzurl.org/zoneinfo/Europe/London
X-LIC-LOCATION:Europe/London
BEGIN:DAYLIGHT
TZOFFSETFROM:+0000
TZOFFSETTO:+0100
TZNAME:BST
DTSTART:20200329T020000Z
RRULE:FREQ=YEARLY;BYMONTH=3;BYDAY=-1SU
END:DAYLIGHT
BEGIN:STANDARD
TZOFFSETFROM:+0100
TZOFFSETTO:+0000
TZNAME:GMT
DTSTART:20201025T020000Z
RRULE:FREQ=YEARLY;BYMONTH=10;BYDAY=-1SU
END:STANDARD
END:VTIMEZONE
BEGIN:VEVENT
SUMMARY:WSBK -R2- Jerez (Race 2) (Rescheduled)
DTSTAMP:20200313T005946Z
SEQUENCE:2
UID:1041-1-ea1c5092dbbe1e69d98dd8efc928ae54@docpoland.com
ORGANIZER;CN="Fala":no-reply@docpoland.com
DESCRIPTION:WSBK -R2- Jerez (Race 2) (Rescheduled)\nCircuito de Jerez\, 
	Carretera de Arcos-Jerez de la Frontera\, Km 10\, 11405 Jerez de la Fronte
	ra\, Cádiz\, Spain
DTSTART;VALUE=DATE:20200802
END:VEVENT
END:VCALENDAR
