BEGIN:VCALENDAR
VERSION:2.0
PRODID:-//IP.Board Calendar 4.2.3//EN
METHOD:PUBLISH
CALSCALE:GREGORIAN
X-WR-CALNAME:Wydarzenia sportowe
BEGIN:VTIMEZONE
TZID:Europe/London
TZURL:http://tzurl.org/zoneinfo/Europe/London
X-LIC-LOCATION:Europe/London
BEGIN:DAYLIGHT
TZOFFSETFROM:+0000
TZOFFSETTO:+0100
TZNAME:BST
DTSTART:20230326T020000Z
RRULE:FREQ=YEARLY;BYMONTH=3;BYDAY=-1SU
END:DAYLIGHT
BEGIN:STANDARD
TZOFFSETFROM:+0100
TZOFFSETTO:+0000
TZNAME:GMT
DTSTART:20231029T020000Z
RRULE:FREQ=YEARLY;BYMONTH=10;BYDAY=-1SU
END:STANDARD
END:VTIMEZONE
BEGIN:VEVENT
SUMMARY:WSBK - Portuguese Round - Race 1
DTSTAMP:20230110T063751Z
SEQUENCE:0
UID:1163-1-ea1c5092dbbe1e69d98dd8efc928ae54@docpoland.com
ORGANIZER;CN="Fala":no-reply@docpoland.com
DESCRIPTION:WSBK - Portuguese Round - Race 1\nAutódromo Internacional d
	o Algarve\, Sítio do Escampadinho\, Mexilhoeira Grande\, 8500-148 Portim
	ão\, Portugal
DTSTART;VALUE=DATE:20230930
END:VEVENT
END:VCALENDAR
