BEGIN:VCALENDAR
VERSION:2.0
PRODID:-//IP.Board Calendar 4.2.3//EN
METHOD:PUBLISH
CALSCALE:GREGORIAN
X-WR-CALNAME:Wydarzenia sportowe
BEGIN:VTIMEZONE
TZID:Europe/London
TZURL:http://tzurl.org/zoneinfo/Europe/London
X-LIC-LOCATION:Europe/London
BEGIN:DAYLIGHT
TZOFFSETFROM:+0000
TZOFFSETTO:+0100
TZNAME:BST
DTSTART:20110327T020000Z
RRULE:FREQ=YEARLY;BYMONTH=3;BYDAY=-1SU
END:DAYLIGHT
BEGIN:STANDARD
TZOFFSETFROM:+0100
TZOFFSETTO:+0000
TZNAME:GMT
DTSTART:20111030T020000Z
RRULE:FREQ=YEARLY;BYMONTH=10;BYDAY=-1SU
END:STANDARD
END:VTIMEZONE
BEGIN:VEVENT
SUMMARY:WSBK qual 1: Philip Island
DTSTAMP:20230119T162537Z
SEQUENCE:0
UID:1199-1-ea1c5092dbbe1e69d98dd8efc928ae54@docpoland.com
ORGANIZER;CN="Fala":no-reply@docpoland.com
DESCRIPTION:WSBK qual 1: Philip Island\nPhilip Island\, Victoria\, Austr
	alia
DTSTART:20110225T043000Z
DTEND:20110225T060000Z
END:VEVENT
END:VCALENDAR
