BEGIN:VCALENDAR
VERSION:2.0
PRODID:-//IP.Board Calendar 4.2.3//EN
METHOD:PUBLISH
CALSCALE:GREGORIAN
X-WR-CALNAME:Wydarzenia sportowe
BEGIN:VTIMEZONE
TZID:Europe/London
TZURL:http://tzurl.org/zoneinfo/Europe/London
X-LIC-LOCATION:Europe/London
BEGIN:DAYLIGHT
TZOFFSETFROM:+0000
TZOFFSETTO:+0100
TZNAME:BST
DTSTART:20240331T020000Z
RRULE:FREQ=YEARLY;BYMONTH=3;BYDAY=-1SU
END:DAYLIGHT
BEGIN:STANDARD
TZOFFSETFROM:+0100
TZOFFSETTO:+0000
TZNAME:GMT
DTSTART:20241027T020000Z
RRULE:FREQ=YEARLY;BYMONTH=10;BYDAY=-1SU
END:STANDARD
END:VTIMEZONE
BEGIN:VEVENT
SUMMARY:BSB - Thruxton Races 2 & 3
DTSTAMP:20240123T090343Z
SEQUENCE:0
UID:1243-1-ea1c5092dbbe1e69d98dd8efc928ae54@docpoland.com
ORGANIZER;CN="Fala":no-reply@docpoland.com
DESCRIPTION:BSB - Thruxton Races 2 & 3\nThruxton Circuit\, Andover SP11 
	8PN\, UK
DTSTART;VALUE=DATE:20240811
END:VEVENT
END:VCALENDAR
