BEGIN:VCALENDAR
VERSION:2.0
PRODID:-//IP.Board Calendar 4.2.3//EN
METHOD:PUBLISH
CALSCALE:GREGORIAN
X-WR-CALNAME:Wydarzenia sportowe
BEGIN:VTIMEZONE
TZID:Europe/London
TZURL:http://tzurl.org/zoneinfo/Europe/London
X-LIC-LOCATION:Europe/London
BEGIN:DAYLIGHT
TZOFFSETFROM:+0000
TZOFFSETTO:+0100
TZNAME:BST
DTSTART:20170326T020000Z
RRULE:FREQ=YEARLY;BYMONTH=3;BYDAY=-1SU
END:DAYLIGHT
BEGIN:STANDARD
TZOFFSETFROM:+0100
TZOFFSETTO:+0000
TZNAME:GMT
DTSTART:20171029T020000Z
RRULE:FREQ=YEARLY;BYMONTH=10;BYDAY=-1SU
END:STANDARD
END:VTIMEZONE
BEGIN:VEVENT
SUMMARY:MotoGP 2 - Gran Premio Motul de la República Argentina
DTSTAMP:20170728T143727Z
SEQUENCE:0
UID:253-1-ea1c5092dbbe1e69d98dd8efc928ae54@docpoland.com
ORGANIZER;CN="Fala":no-reply@docpoland.com
DESCRIPTION:2 - Gran Premio Motul de la República Argentina\n\nTermas d
	e Río Hondo\n\nhttp://www.motogp.com/en/event/Argentina
DTSTART;VALUE=DATE:20170407
DTEND;VALUE=DATE:20170409
END:VEVENT
END:VCALENDAR
